BEGIN:VCALENDAR
VERSION:2.0
PRODID:-//SACC HOUSTON - ECPv6.15.3//NONSGML v1.0//EN
CALSCALE:GREGORIAN
METHOD:PUBLISH
X-WR-CALNAME:SACC HOUSTON
X-ORIGINAL-URL:https://sacchouston.org
X-WR-CALDESC:Events for SACC HOUSTON
REFRESH-INTERVAL;VALUE=DURATION:PT1H
X-Robots-Tag:noindex
X-PUBLISHED-TTL:PT1H
BEGIN:VTIMEZONE
TZID:UTC
BEGIN:STANDARD
TZOFFSETFROM:+0000
TZOFFSETTO:+0000
TZNAME:UTC
DTSTART:20220101T000000
END:STANDARD
END:VTIMEZONE
BEGIN:VTIMEZONE
TZID:America/New_York
BEGIN:DAYLIGHT
TZOFFSETFROM:-0500
TZOFFSETTO:-0400
TZNAME:EDT
DTSTART:20230312T070000
END:DAYLIGHT
BEGIN:STANDARD
TZOFFSETFROM:-0400
TZOFFSETTO:-0500
TZNAME:EST
DTSTART:20231105T060000
END:STANDARD
END:VTIMEZONE
BEGIN:VEVENT
DTSTART;VALUE=DATE:20260121
DTEND;VALUE=DATE:20260122
DTSTAMP:20260423T183644
CREATED:20251231T044501Z
LAST-MODIFIED:20251231T044501Z
UID:5796-1768953600-1769039999@sacchouston.org
SUMMARY:ATBC & SACC BUSINESS LUNCHEON
DESCRIPTION:
URL:https://sacchouston.org/event/atbc-sacc-business-luncheon/
END:VEVENT
BEGIN:VEVENT
DTSTART;VALUE=DATE:20251023
DTEND;VALUE=DATE:20251024
DTSTAMP:20260423T183644
CREATED:20250314T054046Z
LAST-MODIFIED:20250314T054046Z
UID:5711-1761177600-1761263999@sacchouston.org
SUMMARY:SACC 32nd Anniversary Gala
DESCRIPTION:
URL:https://sacchouston.org/event/sacc-32nd-anniversary-gala/
END:VEVENT
BEGIN:VEVENT
DTSTART;VALUE=DATE:20250925
DTEND;VALUE=DATE:20250926
DTSTAMP:20260423T183644
CREATED:20250314T053019Z
LAST-MODIFIED:20250314T053019Z
UID:5708-1758758400-1758844799@sacchouston.org
SUMMARY:SACC Business Luncheon - The State of the Economy
DESCRIPTION:
URL:https://sacchouston.org/event/sacc-business-luncheon-the-state-of-the-economy-2/
END:VEVENT
BEGIN:VEVENT
DTSTART;VALUE=DATE:20250828
DTEND;VALUE=DATE:20250829
DTSTAMP:20260423T183644
CREATED:20250314T052205Z
LAST-MODIFIED:20250314T052205Z
UID:5706-1756339200-1756425599@sacchouston.org
SUMMARY:SACC Chai Exchange
DESCRIPTION:
URL:https://sacchouston.org/event/sacc-chai-exchange-2/
END:VEVENT
BEGIN:VEVENT
DTSTART;VALUE=DATE:20250731
DTEND;VALUE=DATE:20250801
DTSTAMP:20260423T183644
CREATED:20250722T191125Z
LAST-MODIFIED:20250722T191144Z
UID:5792-1753920000-1754006399@sacchouston.org
SUMMARY:SACC Houston Happy Hour
DESCRIPTION:
URL:https://sacchouston.org/event/sacc-houston-happy-hour/
END:VEVENT
BEGIN:VEVENT
DTSTART;VALUE=DATE:20250626
DTEND;VALUE=DATE:20250627
DTSTAMP:20260423T183644
CREATED:20250314T051638Z
LAST-MODIFIED:20250314T051638Z
UID:5704-1750896000-1750982399@sacchouston.org
SUMMARY:Legal Strategies for Growth and Innovation
DESCRIPTION:
URL:https://sacchouston.org/event/legal-strategies-for-growth-and-innovation/
END:VEVENT
BEGIN:VEVENT
DTSTART;VALUE=DATE:20250522
DTEND;VALUE=DATE:20250523
DTSTAMP:20260423T183644
CREATED:20250314T050138Z
LAST-MODIFIED:20250314T050206Z
UID:5700-1747872000-1747958399@sacchouston.org
SUMMARY:SACC Business Dinner - Mental Wealth: The Business of Well-Being
DESCRIPTION:
URL:https://sacchouston.org/event/5700/
END:VEVENT
BEGIN:VEVENT
DTSTART;VALUE=DATE:20250501
DTEND;VALUE=DATE:20250502
DTSTAMP:20260423T183644
CREATED:20250314T044743Z
LAST-MODIFIED:20250408T054320Z
UID:5698-1746057600-1746143999@sacchouston.org
SUMMARY:SACC Business Luncheon - The State of the Economy
DESCRIPTION:
URL:https://sacchouston.org/event/sacc-business-luncheon-the-state-of-the-economy/
END:VEVENT
BEGIN:VEVENT
DTSTART;VALUE=DATE:20250305
DTEND;VALUE=DATE:20250306
DTSTAMP:20260423T183644
CREATED:20250226T233522Z
LAST-MODIFIED:20250226T233522Z
UID:5679-1741132800-1741219199@sacchouston.org
SUMMARY:Business Networking Iftar Dinner
DESCRIPTION:
URL:https://sacchouston.org/event/business-networking-iftar-dinner/
END:VEVENT
BEGIN:VEVENT
DTSTART;VALUE=DATE:20241113
DTEND;VALUE=DATE:20241114
DTSTAMP:20260423T183644
CREATED:20240904T040711Z
LAST-MODIFIED:20240904T040711Z
UID:5522-1731456000-1731542399@sacchouston.org
SUMMARY:Real Estate and Construction Summit 2024
DESCRIPTION:
URL:https://sacchouston.org/event/real-estate-and-construction-summit-2024/
END:VEVENT
BEGIN:VEVENT
DTSTART;VALUE=DATE:20241024
DTEND;VALUE=DATE:20241025
DTSTAMP:20260423T183644
CREATED:20240905T165504Z
LAST-MODIFIED:20240905T165504Z
UID:5524-1729728000-1729814399@sacchouston.org
SUMMARY:SACC 31st Anniversary Gala
DESCRIPTION:
URL:https://sacchouston.org/event/sacc-31st-anniversary-gala/
END:VEVENT
BEGIN:VEVENT
DTSTART;VALUE=DATE:20240912
DTEND;VALUE=DATE:20240913
DTSTAMP:20260423T183644
CREATED:20240823T193822Z
LAST-MODIFIED:20240823T193920Z
UID:5517-1726099200-1726185599@sacchouston.org
SUMMARY:SACC Monthly Dinner: Legal Pitfalls Small Businesses Make
DESCRIPTION:
URL:https://sacchouston.org/event/sacc-monthly-dinner-legal-pitfalls-small-businesses-make/
END:VEVENT
BEGIN:VEVENT
DTSTART;VALUE=DATE:20240727
DTEND;VALUE=DATE:20240728
DTSTAMP:20260423T183644
CREATED:20240716T201541Z
LAST-MODIFIED:20240716T201541Z
UID:5411-1722038400-1722124799@sacchouston.org
SUMMARY:Houston AAPI Convention
DESCRIPTION:
URL:https://sacchouston.org/event/houston-aapi-convention/
END:VEVENT
BEGIN:VEVENT
DTSTART;VALUE=DATE:20240625
DTEND;VALUE=DATE:20240626
DTSTAMP:20260423T183644
CREATED:20240412T222951Z
LAST-MODIFIED:20240618T205946Z
UID:5213-1719273600-1719359999@sacchouston.org
SUMMARY:SACC Monthly Dinner | Mental Health
DESCRIPTION:
URL:https://sacchouston.org/event/sacc-monthly-dinner-mental-health/
END:VEVENT
BEGIN:VEVENT
DTSTART;VALUE=DATE:20240425
DTEND;VALUE=DATE:20240426
DTSTAMP:20260423T183644
CREATED:20240329T181812Z
LAST-MODIFIED:20240401T032924Z
UID:5209-1714003200-1714089599@sacchouston.org
SUMMARY:SACC Monthly Luncheon | The State Of The Economy
DESCRIPTION:
URL:https://sacchouston.org/event/sacc-monthly-luncheon-the-state-of-the-economy-real-estate-energy/
END:VEVENT
BEGIN:VEVENT
DTSTART;TZID=UTC:20231026T180000
DTEND;TZID=UTC:20231026T213000
DTSTAMP:20260423T183644
CREATED:20230214T151705Z
LAST-MODIFIED:20230622T223418Z
UID:3953-1698343200-1698355800@sacchouston.org
SUMMARY:SACC 30th Anniversary Gala
DESCRIPTION:
URL:https://sacchouston.org/event/sacc-30th-anniversary-gala/
END:VEVENT
BEGIN:VEVENT
DTSTART;TZID=UTC:20230921T083000
DTEND;TZID=UTC:20230921T100000
DTSTAMP:20260423T183644
CREATED:20230214T151636Z
LAST-MODIFIED:20230901T145834Z
UID:3951-1695285000-1695290400@sacchouston.org
SUMMARY:SACC Business Over Breakfast: Exploring AI For Your Business
DESCRIPTION:
URL:https://sacchouston.org/event/sacc-business-over-breakfast-scaling-up-your-business/
END:VEVENT
BEGIN:VEVENT
DTSTART;VALUE=DATE:20230823
DTEND;VALUE=DATE:20230824
DTSTAMP:20260423T183644
CREATED:20230214T151548Z
LAST-MODIFIED:20230807T200449Z
UID:3949-1692748800-1692835199@sacchouston.org
SUMMARY:SACC Chai Exchange - Purchasing a Franchise
DESCRIPTION:
URL:https://sacchouston.org/event/sacc-chai-exchange-purchasing-a-franchise/
END:VEVENT
BEGIN:VEVENT
DTSTART;TZID=UTC:20230727T180000
DTEND;TZID=UTC:20230727T190000
DTSTAMP:20260423T183644
CREATED:20230214T151516Z
LAST-MODIFIED:20230722T211914Z
UID:3947-1690480800-1690484400@sacchouston.org
SUMMARY:SACC Webinar Series: Marketing during a Recession
DESCRIPTION:
URL:https://sacchouston.org/event/webinar-marketing-during-recession/
END:VEVENT
BEGIN:VEVENT
DTSTART;TZID=America/New_York:20230709T133000
DTEND;TZID=America/New_York:20230709T133000
DTSTAMP:20260423T183644
CREATED:20230515T184211Z
LAST-MODIFIED:20230515T185724Z
UID:4381-1688909400-1688909400@sacchouston.org
SUMMARY:SACC Networking Mixer at the Astros Game
DESCRIPTION:
URL:https://sacchouston.org/event/sacc-networking-mixer-at-the-astros-game/
END:VEVENT
BEGIN:VEVENT
DTSTART;TZID=America/New_York:20230608T113000
DTEND;TZID=America/New_York:20230608T130000
DTSTAMP:20260423T183644
CREATED:20230515T183923Z
LAST-MODIFIED:20230515T203033Z
UID:4378-1686223800-1686229200@sacchouston.org
SUMMARY:SACC Luncheon | The State of the Economy
DESCRIPTION:
URL:https://sacchouston.org/event/sacc-luncheon-the-state-of-the-economy/
END:VEVENT
BEGIN:VEVENT
DTSTART;TZID=UTC:20230427T180000
DTEND;TZID=UTC:20230427T193000
DTSTAMP:20260423T183644
CREATED:20230214T151327Z
LAST-MODIFIED:20230221T153903Z
UID:3941-1682618400-1682623800@sacchouston.org
SUMMARY:SACC Webinar Series: Best Legal-Tax/Corporate Structures for Your Business
DESCRIPTION:
URL:https://sacchouston.org/event/webinar-legal-tax-corporate-structures-webinar/
END:VEVENT
BEGIN:VEVENT
DTSTART;TZID=UTC:20230402T173000
DTEND;TZID=UTC:20230402T210000
DTSTAMP:20260423T183644
CREATED:20230214T151255Z
LAST-MODIFIED:20230330T163702Z
UID:3939-1680456600-1680469200@sacchouston.org
SUMMARY:SACC Annual Ramadan Iftar with the Mayor of Houston
DESCRIPTION:
URL:https://sacchouston.org/event/sacc-annual-ramadan-iftar-with-the-mayor-of-houston/
END:VEVENT
BEGIN:VEVENT
DTSTART;VALUE=DATE:20230320
DTEND;VALUE=DATE:20230321
DTSTAMP:20260423T183644
CREATED:20230214T151221Z
LAST-MODIFIED:20230221T152935Z
UID:3936-1679270400-1679356799@sacchouston.org
SUMMARY:SACC Networking Mixer at the Rockets Game
DESCRIPTION:
URL:https://sacchouston.org/event/sacc-networking-mixer-at-the-rockets-game/
END:VEVENT
BEGIN:VEVENT
DTSTART;TZID=UTC:20230316T180000
DTEND;TZID=UTC:20230316T210000
DTSTAMP:20260423T183644
CREATED:20230214T151116Z
LAST-MODIFIED:20230221T212406Z
UID:3934-1678989600-1679000400@sacchouston.org
SUMMARY:SACC Legacy Reception
DESCRIPTION:
URL:https://sacchouston.org/event/sacc-legacy-reception/
END:VEVENT
BEGIN:VEVENT
DTSTART;TZID=UTC:20230304T110000
DTEND;TZID=UTC:20230304T170000
DTSTAMP:20260423T183644
CREATED:20230214T150732Z
LAST-MODIFIED:20230221T001609Z
UID:3932-1677927600-1677949200@sacchouston.org
SUMMARY:SACC Houston Holi: Festival of Colors
DESCRIPTION:
URL:https://sacchouston.org/event/houston-holi/
END:VEVENT
BEGIN:VEVENT
DTSTART;VALUE=DATE:20221208
DTEND;VALUE=DATE:20221209
DTSTAMP:20260423T183644
CREATED:20220616T215812Z
LAST-MODIFIED:20220616T215812Z
UID:1901-1670457600-1670543999@sacchouston.org
SUMMARY:Holiday Mixer
DESCRIPTION:
URL:https://sacchouston.org/event/holiday-mixer/
END:VEVENT
BEGIN:VEVENT
DTSTART;VALUE=DATE:20221206
DTEND;VALUE=DATE:20221207
DTSTAMP:20260423T183644
CREATED:20221124T170141Z
LAST-MODIFIED:20221124T170328Z
UID:3685-1670284800-1670371199@sacchouston.org
SUMMARY:ATBC Business Luncheon
DESCRIPTION:
URL:https://sacchouston.org/event/atbc-business-luncheon/
END:VEVENT
BEGIN:VEVENT
DTSTART;VALUE=DATE:20221115
DTEND;VALUE=DATE:20221116
DTSTAMP:20260423T183644
CREATED:20221005T153952Z
LAST-MODIFIED:20221006T231654Z
UID:2957-1668470400-1668556799@sacchouston.org
SUMMARY:4th Annual Real Estate and Construction Summit
DESCRIPTION:
URL:https://sacchouston.org/event/4th-real-estate-and-construction-summit-2022/
END:VEVENT
BEGIN:VEVENT
DTSTART;VALUE=DATE:20220929
DTEND;VALUE=DATE:20220930
DTSTAMP:20260423T183644
CREATED:20220420T230901Z
LAST-MODIFIED:20220907T200350Z
UID:1385-1664409600-1664495999@sacchouston.org
SUMMARY:Digital Marketing Seminar
DESCRIPTION:About this event\nSACC is hosting a digital marketing seminar at the Turkish Community Center. \n\nTHURSDAY\, September 29th\, 6:30 PM – 8:30 PM.REFRESHMENTS | NETWORKING | EDUCATION \nThis will be a free event to help local businesses learn how they can leverage Google to grow their businesses via SEO (search engine optimization)\, Google My Business (google maps) and Adwords (paid advertising). We’ll have food\, drinks and a networking session before and after the seminar. This event will show real life examples\, useful tools\, resources and case studies across multiple industries along with a Q&A session at the end. \n\nFree business marketing review for all attendees and a choice of a $1\,500 SEO marketing credit or new company website giveaway raffled at the end of the night.\nLearn. Network. Grow.\n\n\nSponsor: JP Marketing – SEO Consulting Agency \nTo learn more about SACC Events\, Membership\, or Sponsorship Opportunities explore our website and/or email us at info@sacchouston.org.
URL:https://sacchouston.org/event/topic-digital-marketing-seminar/
END:VEVENT
END:VCALENDAR